BEGIN:VCALENDAR
VERSION:2.0
PRODID:-//MGDC Conference  August 6-9, 2018 - ECPv4.6.14.1//NONSGML v1.0//EN
CALSCALE:GREGORIAN
METHOD:PUBLISH
X-WR-CALNAME:MGDC Conference  August 6-9, 2018
X-ORIGINAL-URL:http://lockeruby.com/WDV240/Project5
X-WR-CALDESC:Events for MGDC Conference  August 6-9, 2018
BEGIN:VEVENT
DTSTART;TZID=UTC+0:20180807T100000
DTEND;TZID=UTC+0:20180807T110000
DTSTAMP:20260421T090325
CREATED:20180502T015305Z
LAST-MODIFIED:20180503T202527Z
UID:395-1533636000-1533639600@lockeruby.com
SUMMARY:Art Direction Bootcamp: PANTALONES! Things I wished someone told me prior to becoming an Art Director
DESCRIPTION:Location:  Room 130\, North Hall \nSpeaker: Bob Murphy \nFormat: Tutorial \nTrack: Visual Arts \nPass Type: MGDC All Access\, MGDC All Access + VRDC\, MGDC Summits\, Tutorials\, & Bootcamps\, MGDC Summits\, Tutorials\, & Bootcamps + VRDC \n
URL:http://lockeruby.com/WDV240/Project5/event/art-direction-bootcamp-pantalones-things-i-wished-someone-told-me-prior-to-becoming-an-art-director/
LOCATION:730 Third Street\, Des Moines\, IA\, 50309\, United States
CATEGORIES:Tuesday Session
ATTACH;FMTTYPE=image/jpeg:http://lockeruby.com/WDV240/Project5/wp-content/uploads/2018/05/pantalones_220.jpg
ORGANIZER;CN="MGDC":MAILTO:email@mgdc.com
END:VEVENT
END:VCALENDAR