BEGIN:VCALENDAR
VERSION:2.0
PRODID:-//MGDC Conference  August 6-9, 2018 - ECPv4.6.14.1//NONSGML v1.0//EN
CALSCALE:GREGORIAN
METHOD:PUBLISH
X-WR-CALNAME:MGDC Conference  August 6-9, 2018
X-ORIGINAL-URL:http://lockeruby.com/WDV240/Project5
X-WR-CALDESC:Events for MGDC Conference  August 6-9, 2018
BEGIN:VEVENT
DTSTART;TZID=UTC+0:20180807T160000
DTEND;TZID=UTC+0:20180807T170000
DTSTAMP:20260421T103003
CREATED:20180502T023525Z
LAST-MODIFIED:20180503T184127Z
UID:436-1533657600-1533661200@lockeruby.com
SUMMARY:Art Direction BootCamp:  Cinematic Environment Production for "UNCHARTED 4"
DESCRIPTION:Location:  Room 130\, North Hall \nSpeaker: \nFormat: Tutorial \nTrack: Visual Arts \nPass Type: MGDC All Access\, MGDC All Access + VRDC\, MGDC Summits\, Tutorials\, & Bootcamps\, MGDC Summits\, Tutorials\, & Bootcamps + VRDC \n
URL:http://lockeruby.com/WDV240/Project5/event/art-direction-bootcamp-cinematic-environment-production-for-uncharted-4/
LOCATION:730 Third Street\, Des Moines\, IA\, 50309\, United States
CATEGORIES:Tuesday Session
ATTACH;FMTTYPE=image/jpeg:http://lockeruby.com/WDV240/Project5/wp-content/uploads/2018/05/deptOfField1_220.jpg
ORGANIZER;CN="MGDC":MAILTO:email@mgdc.com
END:VEVENT
END:VCALENDAR