BEGIN:VCALENDAR
VERSION:2.0
PRODID:-//MGDC Conference  August 6-9, 2018 - ECPv4.6.14.1//NONSGML v1.0//EN
CALSCALE:GREGORIAN
METHOD:PUBLISH
X-WR-CALNAME:MGDC Conference  August 6-9, 2018
X-ORIGINAL-URL:http://lockeruby.com/WDV240/Project5
X-WR-CALDESC:Events for MGDC Conference  August 6-9, 2018
BEGIN:VEVENT
DTSTART;TZID=UTC+0:20180806T110000
DTEND;TZID=UTC+0:20180806T120000
DTSTAMP:20260423T104017
CREATED:20180502T014122Z
LAST-MODIFIED:20180503T202645Z
UID:389-1533553200-1533556800@lockeruby.com
SUMMARY:Animation Bootcamp: Animation Microtalks
DESCRIPTION:Location:  Room 132\, North Hall \nSpeaker: Stacie Hammermall \nLana Bachynski (Blizzard Entertainment)\, Shahbaaz Shah (Telltale Games)\, Tim Borrelli (First Strike Games)\, Gwen Frey (The Molasses Flood)\, Matt Conn (MidBoss)\, Gabriela Aveiro (Dames Making Games)\, Matthew Russell (Amazon)\, Michael Jungbluth (Volition)\, Mariel Cartwright (Lab Zero Games)\, Matt Majers (Pixar) \nFormat: Tutorial \nTrack: Visual Arts \nPass Type: MGDC All Access\, MGDC All Access + VRDC\, MGDC Summits\, Tutorials\, & Bootcamps\, MGDC Summits\, Tutorials\, & Bootcamps + VRDC \n
URL:http://lockeruby.com/WDV240/Project5/event/animation-bootcamp-animation-microtalks/
LOCATION:730 Third Street\, Des Moines\, IA\, 50309\, United States
CATEGORIES:Monday Session
ATTACH;FMTTYPE=image/jpeg:http://lockeruby.com/WDV240/Project5/wp-content/uploads/2018/05/animationmicrotalks1_220.jpg
ORGANIZER;CN="MGDC":MAILTO:email@mgdc.com
END:VEVENT
END:VCALENDAR