BEGIN:VCALENDAR
VERSION:2.0
PRODID:-//MGDC Conference  August 6-9, 2018 - ECPv4.6.14.1//NONSGML v1.0//EN
CALSCALE:GREGORIAN
METHOD:PUBLISH
X-WR-CALNAME:MGDC Conference  August 6-9, 2018
X-ORIGINAL-URL:http://lockeruby.com/WDV240/Project5
X-WR-CALDESC:Events for MGDC Conference  August 6-9, 2018
BEGIN:VEVENT
DTSTART;TZID=UTC+0:20180808T130000
DTEND;TZID=UTC+0:20180808T140000
DTSTAMP:20260421T085624
CREATED:20180502T022719Z
LAST-MODIFIED:20180503T183532Z
UID:424-1533733200-1533736800@lockeruby.com
SUMMARY:Animation Bootcamp: A study of Creature Animation in Film and Games
DESCRIPTION:Location:  Room 132\, North Hall \nSpeaker: \nFormat: Tutorial \nTrack: Visual Arts \nPass Type: MGDC All Access\, MGDC All Access + VRDC\, MGDC Summits\, Tutorials\, & Bootcamps\, MGDC Summits\, Tutorials\, & Bootcamps + VRDC \n
URL:http://lockeruby.com/WDV240/Project5/event/animation-bootcamp-a-study-of-creature-animation-in-film-and-games/
LOCATION:730 Third Street\, Des Moines\, IA\, 50309\, United States
CATEGORIES:Wednesday Session
ATTACH;FMTTYPE=image/jpeg:http://lockeruby.com/WDV240/Project5/wp-content/uploads/2018/05/animationmicrotalks_220.jpg
ORGANIZER;CN="MGDC":MAILTO:email@mgdc.com
END:VEVENT
END:VCALENDAR